BEGIN:VCALENDAR
VERSION:2.0
PRODID:-//Sara Campillo - ECPv6.15.20//NONSGML v1.0//EN
CALSCALE:GREGORIAN
METHOD:PUBLISH
X-WR-CALNAME:Sara Campillo
X-ORIGINAL-URL:https://laventuradelavida.com
X-WR-CALDESC:Events for Sara Campillo
REFRESH-INTERVAL;VALUE=DURATION:PT1H
X-Robots-Tag:noindex
X-PUBLISHED-TTL:PT1H
BEGIN:VTIMEZONE
TZID:Europe/Madrid
BEGIN:DAYLIGHT
TZOFFSETFROM:+0100
TZOFFSETTO:+0200
TZNAME:CEST
DTSTART:20230326T010000
END:DAYLIGHT
BEGIN:STANDARD
TZOFFSETFROM:+0200
TZOFFSETTO:+0100
TZNAME:CET
DTSTART:20231029T010000
END:STANDARD
BEGIN:DAYLIGHT
TZOFFSETFROM:+0100
TZOFFSETTO:+0200
TZNAME:CEST
DTSTART:20240331T010000
END:DAYLIGHT
BEGIN:STANDARD
TZOFFSETFROM:+0200
TZOFFSETTO:+0100
TZNAME:CET
DTSTART:20241027T010000
END:STANDARD
BEGIN:DAYLIGHT
TZOFFSETFROM:+0100
TZOFFSETTO:+0200
TZNAME:CEST
DTSTART:20250330T010000
END:DAYLIGHT
BEGIN:STANDARD
TZOFFSETFROM:+0200
TZOFFSETTO:+0100
TZNAME:CET
DTSTART:20251026T010000
END:STANDARD
END:VTIMEZONE
BEGIN:VEVENT
DTSTART;TZID=Europe/Madrid:20241118T080000
DTEND;TZID=Europe/Madrid:20241118T170000
DTSTAMP:20260422T172044
CREATED:20241118T185049Z
LAST-MODIFIED:20241118T185049Z
UID:1630-1731916800-1731949200@laventuradelavida.com
SUMMARY:Taller de Constelaciones
DESCRIPTION:Las Constelaciones Familiares\nLa terapia sistémica familiar ideada por Bert Hellinger\, “las Constelaciones Familiares”\, es un instrumento sencillo que permite\, con una intervención muy breve\, sanar sufrimientos ligados a la dinámica inconsciente que nos vincula a nuestro sistema familiar y en particular con las generaciones anteriores. \nSi bien se basa en fundamentos de Análisis Transaccional\, Gestalt\, PNL\, Hipnosis\, Dinámica de Grupo\, esta herramienta terapéutica es muy original y particularmente eficaz\, allí donde las demás terapias encuentran resistencias insuperables. Resulta además un enfoque muy esclarecedor y liberador para cada uno. \nLas Constelaciones Familiares son las herramientas correspondientes a un pensamiento\, y conforme evoluciona este pensamiento\, va evolucionando la herramienta. Brigitte Champetier de Ribes \nLo complejo de la vida es paradójico. La vida entre dos solo funciona creando entre los dos un proyecto común. Las relaciones entre humanos son complejas y a su vez sencillas cuando nos atrevemos a mirarnos de igual a igual. \nLos temas principales son: la vida\, la salud\, las relaciones de pareja\, los conflictos familiares o entre hermanos\, las dificultades de nuestros hijos\, el trabajo\, la relación con el dinero\, etc. \nYa no buscamos una imagen\, sino un movimiento; y además un movimiento de reconciliación. \nLa sanación entonces es la sanación que necesita todo el sistema familiar. Es la sanación buena para todos. No hay sanación individual. \nEste taller se realizará en Jaca (Huesca). Cada participante podrá trabajar su tema esencial  con Constelaciones\, Ejercicios Sistémicos\, Meditaciones en movimiento y una visualización final de cierre. \nSe podrá constelar en paralelo. Representar aporta mucha sanación por la resonancia del movimiento sistémico. \nInscripciones siguiendo el enlace  \nRecopilación de textos desde la web de Insconsfa
URL:https://laventuradelavida.com/curso/taller-de-constelaciones/
CATEGORIES:TALLERES PRESENCIALES
ATTACH;FMTTYPE=image/jpeg:https://laventuradelavida.com/wp-content/uploads/2024/11/gc106a804902994573ff82762f20b0bb13034c6dd06f8bc5f2b6480b6e8f7b0a0253120f37bad9546acaea2c4b962d84054bfab714da69aaf44749b53dae189a7_1280-4896487.jpg
END:VEVENT
BEGIN:VEVENT
DTSTART;TZID=Europe/Madrid:20241123T100000
DTEND;TZID=Europe/Madrid:20241123T130000
DTSTAMP:20260422T172044
CREATED:20241118T154601Z
LAST-MODIFIED:20250520T100445Z
UID:1617-1732356000-1732366800@laventuradelavida.com
SUMMARY:Taller Las Fuerzas del Amor - Constelaciones
DESCRIPTION:Taller de Constelaciones\n\nLas fuerzas del amor nos hacen vivir en el presente\, en el estado adulto y nos ayudan a abrirnos a las infinitas posibilidades. Estas fuerzas son cuatro: Asentimiento – Pertenencia – Jerarquía – Equilibrio entre dar y tomar. \nBrigitte Champetier de Ribes en su libro “Las fuerzas del amor” expresa: “Si miramos la evolución de los astros y estrellas o los ciclos de la naturaleza\, constatamos que todo está “pensado”\, todo funciona solo\, en un orden perfecto. El ser humano es sólo una pieza más de ese cosmos sin límites. ¿Porque habría de funcionar de otra manera para nosotros?” \nEl mundo actual evoluciona rápidamente\, impulsado por fuerzas cósmicas muy poderosas. En muchas oportunidades a lo largo del tiempo estas fuerzas entran en conflicto y\, de una u otra manera\, somos afectados por ellas. \nEsos conflictos provocan crisis\, que tienen por objeto mostrarnos lo que no funciona para que podamos descubrir lo que puede funcionar y así continuar nuestro camino en armonía.\nO sea que primero nos ayudan a descartar lo que ya no nos sirve\, a soltarlo\, a dejarlo en el camino; y\, por otra parte\, gracias a ese descubrimiento podemos rescatar nuestra esencia\, mirar lo que tenemos y ordenarlo.\nLo que es necesario dejar\, para nuestro bien\, son postulados del viejo paradigma (antiguas costumbres\, creencias\, fidelidades\, distintas maneras de mirar lo que nos sucede) y abrirnos a lo nuevo eligiendo vivir con coherencia\, alegría y gratitud. \nBert Hellinger nos dice: “Sabemos que la vida viene de lejos y no sabemos dónde nace. Desde lejos fluye hasta nosotros; nos toma\, no es que nosotros la tengamos. Viene del origen primario\, nos toma\, nos usa\, nos toma al servicio y nos deja caer de nuevo al origen primario\, sea lo que sea eso”. \nLa vida siempre va hacia adelante\, y las personas están sumergidas en ese movimiento que provoca\ncambios constantes a los cuales hay que adaptarse para estar en sintonía con la evolución de la\nhumanidad. \nEncuentro profundo de sanación y de transformación. Cada participante tendrá su espacio para constelar su tema esencial y de beneficiará de la sanación de las otras constelaciones por la resonancia del grupo. \nTrabajaremos con ejercicios sistémicos\, visualizaciones y una meditación de apertura y otra de cierre. \n¡Serás bienvenidx! \nInscripciones  \nFuente #insconsfa
URL:https://laventuradelavida.com/curso/taller-las-fuerzas-del-amor/
CATEGORIES:TALLERES PRESENCIALES
ATTACH;FMTTYPE=image/jpeg:https://laventuradelavida.com/wp-content/uploads/2024/11/pexels-photo-1697912-1697912-scaled.jpg
END:VEVENT
END:VCALENDAR